BEGIN:VCALENDAR
VERSION:2.0
PRODID:-//Tukios.com/
BEGIN:VEVENT
UID:1b565def-f6e5-4b83-9d8d-bead7048e166@www.preddyfuneralhomes.com
DTSTAMP:20260420T155522Z
DTSTART:20260423T150000Z
DTEND:20260423T160000Z
SUMMARY:Funeral Service
DESCRIPTION:
URL:https://www.preddyfuneralhomes.com/obituaries/theodore-gentry
LOCATION:Riverview Cemetery 1701 Chesapeake Street  Charlottesville VA 
	22902
GEO:38.0253635;-78.4588539
END:VEVENT
END:VCALENDAR